BEGIN:VCALENDAR
VERSION:2.0
PRODID:-//Plone.org//NONSGML plone.app.event//EN
X-WR-TIMEZONE:Europe/Berlin
BEGIN:VEVENT
SUMMARY:100 Jahre Prandtlscher Mischungswegansatz
DTSTART;VALUE=DATE:20251110
DTEND;VALUE=DATE:20251111
DTSTAMP:20260420T024610Z
UID:7abd435ee53342a6b2ebd3a42f023be7@www.dlr.de
CREATED:20251017T094341Z
DESCRIPTION:https://www.dlr.de/de/as/aktuelles/veranstaltungen/veranstaltu
 ngsarchiv/100-years-of-ludwig-prandtls-mixing-length-model
LAST-MODIFIED:20260109T102225Z
LOCATION:DLR-Göttingen
URL:https://www.dlr.de/de/as/aktuelles/veranstaltungen/veranstaltungsarchi
 v/100-years-of-ludwig-prandtls-mixing-length-model
END:VEVENT
END:VCALENDAR
