BEGIN:VCALENDAR
VERSION:2.0
PRODID:-//Plone.org//NONSGML plone.app.event//EN
X-WR-TIMEZONE:Europe/Berlin
BEGIN:VEVENT
SUMMARY:Paris Air Show 2025
DTSTART;VALUE=DATE:20250616
DTEND;VALUE=DATE:20250623
DTSTAMP:20260420T024458Z
UID:88e745ed5b554a0489aecfbb4a711179@www.dlr.de
CREATED:20250528T072036Z
DESCRIPTION:https://www.dlr.de/de/as/aktuelles/veranstaltungen/veranstaltu
 ngsarchiv/paris-air-show-2025\n\nDie Paris Air Show am Flughafen Le Bourge
 t gehört zu den größten Events der Branche. 2500 Aussteller aus 48 Län
 dern haben sich angemeldet und es werden bis zu 300.000 Besuchende erwarte
 t.
LAST-MODIFIED:20260109T102222Z
LOCATION:Paris Le Bourget airport 1 Rue Désiré Lucca Le Bourget\, 93350 
 Frankreich
URL:https://www.dlr.de/de/as/aktuelles/veranstaltungen/veranstaltungsarchi
 v/paris-air-show-2025
END:VEVENT
END:VCALENDAR
