BEGIN:VCALENDAR
VERSION:2.0
PRODID:-//Plone.org//NONSGML plone.app.event//EN
X-WR-TIMEZONE:Europe/Berlin
BEGIN:VEVENT
SUMMARY:Cottbus Brayton Heat Pump Summit 2025
DTSTART;TZID=Europe/Berlin:20250929T123000
DTEND;TZID=Europe/Berlin:20250930T160000
DTSTAMP:20260419T142813Z
UID:a7cd64b456ee48b2a26f69cd71273ba5@www.dlr.de
CREATED:20240311T201317Z
DESCRIPTION:https://www.dlr.de/de/di/aktuelles/veranstaltungen/cobra-hps\n
 \nDiese zweitägige Veranstaltung bietet industriellen Wärmenutzern sowie
  Herstellern und Forschern\, die sich mit Hochtemperatur-Wärmepumpen (HTW
 P) befassen\, die Möglichkeit zu Diskussionen\, technischem Austausch und
  informellem Networking zusammenzukommen. Die Veranstaltung findet am 29. 
 und 30. September 2025 in Cottbus statt. Das Programm umfasst Vorträge\, 
 praktische Workshops und eine Führung durch die CoBra-Versuchshalle.
LAST-MODIFIED:20260113T113358Z
LOCATION:Cottbus
URL:https://www.dlr.de/de/di/aktuelles/veranstaltungen/cobra-hps
END:VEVENT
BEGIN:VTIMEZONE
TZID:Europe/Berlin
X-LIC-LOCATION:Europe/Berlin
BEGIN:DAYLIGHT
DTSTART:20250330T030000
TZNAME:CEST
TZOFFSETFROM:+0100
TZOFFSETTO:+0200
END:DAYLIGHT
END:VTIMEZONE
END:VCALENDAR
