BEGIN:VCALENDAR
VERSION:2.0
PRODID:-//Plone.org//NONSGML plone.app.event//EN
X-WR-TIMEZONE:Europe/Berlin
BEGIN:VEVENT
SUMMARY:DLR_Science_Spin: Dreh dich schlau!
DTSTART;TZID=Europe/Berlin:20250910T180000
DTSTAMP:20260419T142904Z
UID:20b0115a5a994bf099bd97897939ca61@www.dlr.de
CREATED:20250806T084338Z
DESCRIPTION:https://www.dlr.de/de/di/aktuelles/veranstaltungen/dlr_science
 _spin-dreh-dich-schlau\n\nWissenschaft trifft Zufall: An unserem Glücksra
 d wählen Sie das nächste Thema und wir liefern die Erklärung. Mit spann
 enden Experimenten\, interessanten Videos und kniffligen Quizfragen bietet
  jedes Feld einen neuen Einblick in die Forschung des Deutschen Zentrums f
 ür Luft- und Raumfahrt (DLR).
LAST-MODIFIED:20250806T095448Z
LOCATION:Strandpromenade\, Mauerstraße 7\, 03046 Cottbus
URL:https://www.dlr.de/de/di/aktuelles/veranstaltungen/dlr_science_spin-dr
 eh-dich-schlau
END:VEVENT
BEGIN:VTIMEZONE
TZID:Europe/Berlin
X-LIC-LOCATION:Europe/Berlin
BEGIN:DAYLIGHT
DTSTART:20250330T030000
TZNAME:CEST
TZOFFSETFROM:+0100
TZOFFSETTO:+0200
END:DAYLIGHT
END:VTIMEZONE
END:VCALENDAR
