BEGIN:VCALENDAR
VERSION:2.0
PRODID:-//Plone.org//NONSGML plone.app.event//EN
X-WR-TIMEZONE:Europe/Berlin
BEGIN:VEVENT
SUMMARY:Constructor Career Fair (Bremen)
DTSTART;TZID=Europe/Berlin:20250305T130000
DTEND;TZID=Europe/Berlin:20250305T180000
DTSTAMP:20260424T054103Z
UID:02b5604e2aff43558ee91e54dbbdfd69@www.dlr.de
CREATED:20250226T093849Z
DESCRIPTION:https://www.dlr.de/de/dw/aktuelles/veranstaltungen/constructor
 -career-fair-bremen\n\nDie jährliche Karrieremesse der Constructor Univer
 sity findet jeden März auf dem Campus der Constructor University in Breme
 n oder online statt. Seit 2015 sind Hunderte von globalen und regionalen U
 nternehmen\, Forschungsinstituten\, Nichtregierungs- und Regierungsbehörd
 en sowie frisch gegründete Start-ups aus einer Vielzahl von Branchen vert
 reten. In diesem Jahr sind wir Aussteller auf dieser Messe und freuen uns 
 auf Ihren Besuch an unserem Stand Nr. 4!
LAST-MODIFIED:20250226T101705Z
LOCATION:Constructor University\nBremen gGmbH\nCampus Ring 1\,\n28759 Brem
 en\, Germany
URL:https://www.dlr.de/de/dw/aktuelles/veranstaltungen/constructor-career-
 fair-bremen
END:VEVENT
BEGIN:VTIMEZONE
TZID:Europe/Berlin
X-LIC-LOCATION:Europe/Berlin
BEGIN:STANDARD
DTSTART:20241027T020000
TZNAME:CET
TZOFFSETFROM:+0200
TZOFFSETTO:+0100
END:STANDARD
END:VTIMEZONE
END:VCALENDAR
