BEGIN:VCALENDAR
VERSION:2.0
PRODID:-//Plone.org//NONSGML plone.app.event//EN
X-WR-TIMEZONE:Europe/Berlin
BEGIN:VEVENT
SUMMARY:DataBuzz
DTSTART;TZID=Europe/Berlin:20250728T133000
DTEND;TZID=Europe/Berlin:20250728T170000
DTSTAMP:20260424T053914Z
UID:160e5a12c1e846f7bf2d408cb5a70d2e@www.dlr.de
CREATED:20250509T092705Z
DESCRIPTION:https://www.dlr.de/de/dw/aktuelles/veranstaltungen/dialogforum
 \n\nEine Veranstaltung für Unternehmen zum Dialog über Data Science Komp
 etenzen\, Anwendungsfälle und Kooperationsmöglichkeiten. Wir bieten:\ni)
  Informationen zu den Forschungs- und Entwicklungsthemen\nii) Professionel
 les Speed-Dating mit den Fachabteilungen\nund iii) Verlosung von Tickets f
 ür einen virtuellen Flug durchs All im SpaceBuzz
LAST-MODIFIED:20250516T101552Z
URL:https://www.dlr.de/de/dw/aktuelles/veranstaltungen/dialogforum
END:VEVENT
BEGIN:VTIMEZONE
TZID:Europe/Berlin
X-LIC-LOCATION:Europe/Berlin
BEGIN:DAYLIGHT
DTSTART:20250330T030000
TZNAME:CEST
TZOFFSETFROM:+0100
TZOFFSETTO:+0200
END:DAYLIGHT
END:VTIMEZONE
END:VCALENDAR
