BEGIN:VCALENDAR
VERSION:2.0
PRODID:-//Plone.org//NONSGML plone.app.event//EN
X-WR-TIMEZONE:Europe/Berlin
BEGIN:VEVENT
SUMMARY:Girls' Day 2026
DTSTART;TZID=Europe/Berlin:20260423T090000
DTEND;TZID=Europe/Berlin:20260423T160000
DTSTAMP:20260424T054145Z
UID:a56631c483cd49329b9843b8434f64fd@www.dlr.de
CONTACT:https://www.girls-day.de/.oO/Show/dlr-school-lab-jena.1/girlsday-a
 m-dlr-in-jena
CREATED:20260401T094030Z
DESCRIPTION:https://www.dlr.de/de/dw/aktuelles/veranstaltungen/girls-day-2
 026\n\nEintauchen in unbekannte Welten - diese Chance bietet dir das DLR_S
 chool_Lab und das Institut für Datenwissenschaften des Deutschen Zentrums
  für Luft- und Raumfahrt in Jena. Entdecke die spannende Welt der Berufe 
 rund um die Themen Datenwissenschaft und Luft- und Raumfahrt. In unserem S
 tationenparcours zum Girls' Day wechseln sich Gesprächsrunden mit verschi
 edenen Wissenschaftlerinnen in lockerer Atmosphäre mit spannenden Experim
 ente aus der DLR-Welt ab. Du willst wissen\, wie der Arbeitsalltag von Wis
 senschaftlerinnen aussieht? In unserem Scientist-Speeddating kannst du dic
 h dazu direkt mit Mitarbeiterinnen unseres Instituts austauschen\, deren A
 rbeitsalltag kennenlernen\, und alle deine Fragen zu verschiedenen Ausbild
 ungs- und Studienmöglichkeiten stellen. Dabei nehmen wir uns extra viel Z
 eit\, um in kleinen Gruppen auch auf deine ganz persönlichen Interessen e
 ingehen zu können. An unseren Mitmach-Stationen kannst du außerdem selbs
 t aktiv in die Forschung und Arbeit eintauchen. Lass einen Mars-Rover fahr
 en\, drucke deinen eigenen Klemmbaustein oder mach einen virtuellen Ausflu
 g ins Weltall.
LAST-MODIFIED:20260401T100138Z
LOCATION:DLR_School_Lab Jena\, Leutragraben 4\, 07743 Jena
URL:https://www.dlr.de/de/dw/aktuelles/veranstaltungen/girls-day-2026
END:VEVENT
BEGIN:VTIMEZONE
TZID:Europe/Berlin
X-LIC-LOCATION:Europe/Berlin
BEGIN:DAYLIGHT
DTSTART:20260329T030000
TZNAME:CEST
TZOFFSETFROM:+0100
TZOFFSETTO:+0200
END:DAYLIGHT
END:VTIMEZONE
END:VCALENDAR
