BEGIN:VCALENDAR
VERSION:2.0
PRODID:-//Plone.org//NONSGML plone.app.event//EN
X-WR-TIMEZONE:Europe/Berlin
BEGIN:VEVENT
SUMMARY:Girls' Day am DLR in Jena
DTSTART;TZID=Europe/Berlin:20250403T090000
DTEND;TZID=Europe/Berlin:20250403T160000
DTSTAMP:20260424T055452Z
UID:9f0c7f81f08441b5855b709008f38740@www.dlr.de
CONTACT:https://www.girls-day.de/Radar?lat=50.93033&lon=11.58533&locality=
 Jena&keywords=DLR&sortBy=&sortDesc=false&page=1&pageSize=30&radius=20&gkz=
 16053000&initiativeId=0&categoryIds=NaN&minimumFreePlaces=1&maximumFreePla
 ces=-1&minimumParticipantsAge=0&onlySubscribable=true&onlyAccessible=false
 &onlyEmbedded=false&onlyVirtual=false&onlyNonvirtual=true&organizerId=0&fr
 eePlaces=mindestens+1&locationType=vor+Ort&warmStart=true&for=event
CREATED:20250314T100525Z
DESCRIPTION:https://www.dlr.de/de/dw/aktuelles/veranstaltungen/girls-day-a
 m-dlr-in-jena\n\nEintauchen in unbekannte Welten - diese Chance bietet dir
  das DLR_School_Lab und das Institut für Datenwissenschaften des Deutsche
 n Zentrums für Luft- und Raumfahrt in Jena. Entdecke die spannende Welt d
 er Berufe rund um die Themen Datenwissenschaft und Luft- und Raumfahrt. In
  unserem Stationenparcours zum Girls' Day wechseln sich Gesprächsrunden m
 it verschiedenen Wissenschaftlerinnen in lockerer Atmosphäre mit spannend
 en Experimente aus der DLR-Welt ab.\n\nDu willst wissen\, wie der Arbeitsa
 lltag von Wissenschaftlerinnen aussieht? In unserem Scientist-Speeddating 
 kannst du dich dazu direkt mit Mitarbeiterinnen unseres Instituts austausc
 hen\, deren Arbeitsalltag kennenlernen\, und alle deine Fragen zu verschie
 denen Ausbildungs- und Studienmöglichkeiten stellen. Dabei nehmen wir uns
  extra viel Zeit\, um in kleinen Gruppen auch auf deine ganz persönlichen
  Interessen eingehen zu können.\nAn unseren Mitmach-Stationen kannst du a
 ußerdem selbst aktiv in die Forschung und Arbeit eintauchen. Lass einen M
 ars-Rover fahren\, drucke deinen eigenen Klemmbaustein oder mach einen vir
 tuellen Ausflug ins Weltall.\n\n\n\n\nBitte beachte: Es findet an diesem T
 ag eine inhaltsgleiche Veranstaltung am Vormittag (9-12 Uhr) und Nachmitta
 g (13-16 Uhr) statt. Bitte melde dich nur zu einer der beiden Veranstaltun
 gen an.\n\nWir freuen uns auf deine Anmeldung!
LAST-MODIFIED:20250314T133303Z
LOCATION:DLR_School_Lab Jena\, Leutragraben 4\, 07745 Jena
URL:https://www.dlr.de/de/dw/aktuelles/veranstaltungen/girls-day-am-dlr-in
 -jena
END:VEVENT
BEGIN:VTIMEZONE
TZID:Europe/Berlin
X-LIC-LOCATION:Europe/Berlin
BEGIN:DAYLIGHT
DTSTART:20250330T030000
TZNAME:CEST
TZOFFSETFROM:+0100
TZOFFSETTO:+0200
END:DAYLIGHT
END:VTIMEZONE
END:VCALENDAR
