BEGIN:VCALENDAR
VERSION:2.0
PRODID:-//Plone.org//NONSGML plone.app.event//EN
X-WR-TIMEZONE:Europe/Berlin
BEGIN:VEVENT
SUMMARY:SPACE NIGHT 2026
DTSTART;TZID=Europe/Berlin:20260428T150000
DTEND;TZID=Europe/Berlin:20260428T220000
DTSTAMP:20260424T053715Z
UID:a35f02d6a2c3433da6fe3452e2c6a8de@www.dlr.de
CREATED:20260401T094913Z
DESCRIPTION:https://www.dlr.de/de/dw/aktuelles/veranstaltungen/space-night
 -2026\n\nDie SPACE NIGHT 2026 macht Raumfahrt in Thüringen sichtbar\, inf
 ormiert über regionale Entwicklungen\, eigene Beteiligungsmöglichkeiten 
 sowie Perspektiven und schafft Raum für Austausch und Vernetzung. Sie ist
  eine Veranstaltung für Schülerinnen\, Schüler\, Studierende\, Fachleut
 e und eine interessierte Öffentlichkeit.\nEin besonderer Anlass ist der k
 onkrete Beitrag aus Jena zur NASA-Mission Artemis II: An der EAH Jena wurd
 e gemeinsam mit VESPE e.V. eine wissenschaftliche Payload für den DLR-gef
 örderten Satelliten TACHELES entwickelt\; die Jena Optronik GmbH ist durc
 h die Lieferung von Sternensensoren an der Mission beteiligt. Beides steht
  exemplarisch dafür\, dass Raumfahrt nicht nur beobachtet\, sondern aktiv
  aus Thüringen heraus mitgestaltet wird.\n\nDas Programm ist entsprechend
  vielseitig: \n\nAcht Vorträge in den Themenblöcken „Mit Artemis zurü
 ck zum Mond"\, „Optik in der Raumfahrttechnik" und „Studentische Raumf
 ahrt" geben Einblicke in aktuelle Entwicklungen. Mehr als 10 Aussteller\, 
 darunter die Jena Optronik GmbH oder Starlab Space GmbH\, fünf Mitmachang
 ebote\, Live-Workshops und anschauliche Demonstrationen laden zum Entdecke
 n und Mitmachen ein. Besondere Highlights sind ein Guide-Star-Laser\, der 
 einen künstlichen Stern am Nachthimmel erzeugen kann\, sowie ein Ballonst
 art\, bei dem eine Payload im Rahmen von Workshops direkt während der Ver
 anstaltung aufgebaut und gestartet wird.\n\nDie Teilnahme ist kostenlos.\n
 \n\n\n \n\nDie SPACE NIGHT 2026 ist eine gemeinsame Veranstaltung der Erns
 t-Abbe-Hochschule Jena\, des Raumfahrtstudierendenvereins VESPE Jena e. V.
  und der Deutschen Gesellschaft für Luft- und Raumfahrt.
LAST-MODIFIED:20260401T095856Z
LOCATION:Ernst-Abbe-Hochschule Jena\, Aula\, Haus 4
URL:https://www.dlr.de/de/dw/aktuelles/veranstaltungen/space-night-2026
END:VEVENT
BEGIN:VTIMEZONE
TZID:Europe/Berlin
X-LIC-LOCATION:Europe/Berlin
BEGIN:DAYLIGHT
DTSTART:20260329T030000
TZNAME:CEST
TZOFFSETFROM:+0100
TZOFFSETTO:+0200
END:DAYLIGHT
END:VTIMEZONE
END:VCALENDAR
