BEGIN:VCALENDAR
VERSION:2.0
PRODID:-//Plone.org//NONSGML plone.app.event//EN
X-WR-TIMEZONE:Europe/Berlin
BEGIN:VEVENT
SUMMARY:PASQUALINI zeitsprung festival Jülich
DTSTART;TZID=Europe/Berlin:20250802T110000
DTSTAMP:20260419T155826Z
UID:14e9c1b39c274f7d997875177c909900@www.dlr.de
CREATED:20250728T125036Z
DESCRIPTION:https://www.dlr.de/de/ff/aktuelles/veranstaltungen/2025/pasqua
 lini-zeitsprug-festival-juelich\n\nKann Kalkstein einen Sonnenbrand bekomm
 en und dabei helfen CO₂ zu reduzieren\, und was hat Albrecht Dürer mit 
 moderner Computergrafik und unserer Forschung zu tun? Auf dem PASQUALINI z
 eitsprung festival in Jülich vom 1. bis 3. August möchten wir diesen spa
 nnenden Fragen genauer auf den Grund gehen und freuen uns sehr Teil des B
 ühnenprogramms auf dem neuen Stadtfest zu sein!
LAST-MODIFIED:20250911T074353Z
LOCATION:Science-Bühne auf dem Marktplatz\, 52428 Jülich
URL:https://www.dlr.de/de/ff/aktuelles/veranstaltungen/2025/pasqualini-zei
 tsprug-festival-juelich
END:VEVENT
BEGIN:VTIMEZONE
TZID:Europe/Berlin
X-LIC-LOCATION:Europe/Berlin
BEGIN:DAYLIGHT
DTSTART:20250330T030000
TZNAME:CEST
TZOFFSETFROM:+0100
TZOFFSETTO:+0200
END:DAYLIGHT
END:VTIMEZONE
END:VCALENDAR
