BEGIN:VCALENDAR
VERSION:2.0
PRODID:-//Plone.org//NONSGML plone.app.event//EN
X-WR-TIMEZONE:Europe/Berlin
BEGIN:VEVENT
SUMMARY:Electric & Hybrid Aerospace Technology Symposium
DTSTART;VALUE=DATE:20251008
DTEND;VALUE=DATE:20251010
DTSTAMP:20260419T144306Z
UID:9b266a55793c46dcb77bb4bdb7b43c76@www.dlr.de
CONTACT:https://www.electricandhybridaerospacetechnology.com/de/index.php
CREATED:20250320T145727Z
DESCRIPTION:https://www.dlr.de/de/pt-lf/aktuelles/veranstaltungen/2025/ele
 ctric-hybrid-aerospace-technology-symposium-1\n\nDas zweitägige Symposium
  zeigt die rasante Weiterentwicklung der hybriden Antriebe in der allgemei
 nen Luftfahrt sowie die mit der steigenden Elektrifizierung von Flugzeugen
  einhergehenden Herausforderungen\, aber auch deren Möglichkeiten\, auf.
LAST-MODIFIED:20250320T145917Z
LOCATION:Frankfurt
URL:https://www.dlr.de/de/pt-lf/aktuelles/veranstaltungen/2025/electric-hy
 brid-aerospace-technology-symposium-1
END:VEVENT
END:VCALENDAR
