BEGIN:VCALENDAR
VERSION:2.0
PRODID:-//Plone.org//NONSGML plone.app.event//EN
X-WR-TIMEZONE:Europe/Berlin
BEGIN:VEVENT
SUMMARY:5th International Workshop on Carnot Batteries
DTSTART;VALUE=DATE:20260921
DTEND;VALUE=DATE:20260924
DTSTAMP:20260419T155613Z
UID:6ef3d3f623bf4747ad58564b4a7a8fa2@www.dlr.de
CONTACT:https://iwcb2026.welcome-manager.de/
CREATED:20251023T102556Z
DESCRIPTION:https://www.dlr.de/de/tt/aktuelles/veranstaltungen/2026/iwcb\n
 \nDie Energiespeicherung ist DIE Herausforderung für unsere Gesellschaft.
  Intermittierender Stromquellen aus erneuerbaren Energien in die zukünfti
 ge Energieinfrastruktur zu integrieren\, erfordert Speicherkapazitäten im
  Gigawattstundenbereich.\n\nDer 5. Internationale Workshop über Carnot-Ba
 tterien (IWCB)  versammelt Experten für Energiespeicherung\, um die Forsc
 hung und Demonstrationsprojekte im Bereich der thermischen Energiespeicher
 ung mit dem Schwerpunkt Carnot-Batterien zu diskutieren.\nWeitere Informat
 ionen stehen in Kürze an dieser Stelle.
LAST-MODIFIED:20260414T130029Z
LOCATION:Stuttgart
URL:https://www.dlr.de/de/tt/aktuelles/veranstaltungen/2026/iwcb
END:VEVENT
END:VCALENDAR
