BEGIN:VCALENDAR
VERSION:2.0
PRODID:-//Plone.org//NONSGML plone.app.event//EN
X-WR-TIMEZONE:Europe/Berlin
BEGIN:VEVENT
SUMMARY:Girls' Day 2026
DTSTART;VALUE=DATE:20260423
DTEND;VALUE=DATE:20260424
DTSTAMP:20260423T115620Z
UID:b5f2e47522654d4e9a4a3c3d459b8e62@www.dlr.de
CONTACT:https://www.girls-day.de/
CREATED:20260310T131956Z
DESCRIPTION:https://www.dlr.de/de/vf/aktuelles/veranstaltungen/girls-day-2
 026\n\nAuch dieses Jahr sind wir mit dabei beim Girls' Day am DLR in Berli
 n! Wir geben Einblick in die Arbeitsfelder als Verkehrsforscherinnen gemei
 nsam mit dem DLR_SchoolLab. Am Girls'Day lernen Mädchen Berufe oder Studi
 enfächer kennen\, in denen der Frauenanteil unter 40 Prozent liegt\, z. B
 . in den Bereichen IT\, Handwerk\, Naturwissenschaften und Technik. Oder s
 ie begegnen weiblichen Vorbildern in Führungspositionen aus Wirtschaft un
 d Politik.
LAST-MODIFIED:20260310T154249Z
LOCATION:Standort Berlin\, Rutherfordstr. 2\, 12489 Berlin
URL:https://www.dlr.de/de/vf/aktuelles/veranstaltungen/girls-day-2026
END:VEVENT
END:VCALENDAR
