BEGIN:VCALENDAR
VERSION:2.0
PRODID:-//Plone.org//NONSGML plone.app.event//EN
X-WR-TIMEZONE:Europe/Berlin
BEGIN:VEVENT
SUMMARY:Mit VR in die Mobilitätswelten der Zukunft
DTSTART;TZID=Europe/Berlin:20260211T100000
DTSTAMP:20260422T081836Z
UID:b7d303bbd92840c9b5590bf59fdea556@www.dlr.de
CONTACT:https://dlr.expert/mozu-workshop-2026
CREATED:20251016T123009Z
DESCRIPTION:https://www.dlr.de/de/vf/aktuelles/veranstaltungen/mit-vr-in-d
 ie-mobilitaetswelten-der-zukunft\n\nWir laden Sie herzlich zum Workshop am
  11. Februar 2026 ein! Entdecken Sie mit uns Mobilitätswelten der Zukunft
  und erleben hautnah\, welche Möglichkeiten immersive Techniken wie VR im
  Bereich Planung und Beurteilung von Mobilitätskonzepten beitragen könne
 n. Wir zeigen Ihnen unser im Aufbau befindliches VR-Labor\, was wir unter 
 immersiver VR verstehen\, welche Einsatzmöglichkeiten sich daraus ergeben
  und wie Sie dieses Labor für Ihre Fragen und Projekte zukünftig nutzen 
 können.
LAST-MODIFIED:20251128T131944Z
LOCATION:DLR Standort Berlin\,\nRutherfordstr. 2\, 12489 Berlin
URL:https://www.dlr.de/de/vf/aktuelles/veranstaltungen/mit-vr-in-die-mobil
 itaetswelten-der-zukunft
END:VEVENT
BEGIN:VTIMEZONE
TZID:Europe/Berlin
X-LIC-LOCATION:Europe/Berlin
BEGIN:STANDARD
DTSTART:20251026T020000
TZNAME:CET
TZOFFSETFROM:+0200
TZOFFSETTO:+0100
END:STANDARD
END:VTIMEZONE
END:VCALENDAR
