BEGIN:VCALENDAR
VERSION:2.0
PRODID:-//Plone.org//NONSGML plone.app.event//EN
X-WR-TIMEZONE:Europe/Berlin
BEGIN:VEVENT
SUMMARY:Paris Air Show 2025
DTSTART;TZID=Europe/Berlin:20250616T083000
DTEND;TZID=Europe/Berlin:20250622T180000
DTSTAMP:20260423T180225Z
UID:f0117d2cd51d4f2fbea099acf35aed51@www.dlr.de
CONTACT:https://www.siae.fr/en/trade-visitors/
CREATED:20250313T152640Z
DESCRIPTION:https://www.dlr.de/de/vf/aktuelles/veranstaltungen/paris-air-s
 how-2025\n\nSeit 1909 beleuchtet die International Paris Air Show die neue
 sten Entwicklungen auf dem Gebiet der Luftfahrt. Dieses Jahr öffnet die M
 esse vom 16. bis 22. Juni ihre Tore. Auch das DLR Institut für Verkehrsfo
 rschung ist mit dabei: Am Stand des Deutschen Zentrums für Luft- und Raum
 fahrt zeigen wir unseren Beitrag zur Mobilität der Zukunft.
LAST-MODIFIED:20250613T143130Z
LOCATION:Le Bourget (Parc des Expositions) - \nAéroport Paris-le Bourget 
 - 93350 Le Bourget - Frankreich
URL:https://www.dlr.de/de/vf/aktuelles/veranstaltungen/paris-air-show-2025
END:VEVENT
BEGIN:VTIMEZONE
TZID:Europe/Berlin
X-LIC-LOCATION:Europe/Berlin
BEGIN:DAYLIGHT
DTSTART:20250330T030000
TZNAME:CEST
TZOFFSETFROM:+0100
TZOFFSETTO:+0200
END:DAYLIGHT
END:VTIMEZONE
END:VCALENDAR
