BEGIN:VCALENDAR
VERSION:2.0
PRODID:-//Plone.org//NONSGML plone.app.event//EN
X-WR-TIMEZONE:Europe/Berlin
BEGIN:VEVENT
SUMMARY:PASQUALINI time jump festival
DTSTART;TZID=Europe/Berlin:20250802T110000
DTSTAMP:20260419T142812Z
UID:5ead0120132a42838c426ed0fd54b0a2@www.dlr.de
CREATED:20250728T141356Z
DESCRIPTION:https://www.dlr.de/en/ff/latest/events/2025/pasqualini-time-ju
 mp-festival-1\n\nCan limestone get sunburnt and help to reduce CO₂\, and
  what does Albrecht Dürer have to do with modern computer graphics and ou
 r research? At the PASQUALINI time jump festival in Jülich from 1 to 3 Au
 gust\, we would like to get to the bottom of these exciting questions and 
 are delighted to be part of the stage programme at the new city festival!
LAST-MODIFIED:20250728T144829Z
LOCATION:Science stage on the market square\, 52428 Jülich
URL:https://www.dlr.de/en/ff/latest/events/2025/pasqualini-time-jump-festi
 val-1
END:VEVENT
BEGIN:VTIMEZONE
TZID:Europe/Berlin
X-LIC-LOCATION:Europe/Berlin
BEGIN:DAYLIGHT
DTSTART:20250330T030000
TZNAME:CEST
TZOFFSETFROM:+0100
TZOFFSETTO:+0200
END:DAYLIGHT
END:VTIMEZONE
END:VCALENDAR
