BEGIN:VCALENDAR
VERSION:2.0
PRODID:-//Plone.org//NONSGML plone.app.event//EN
X-WR-TIMEZONE:Europe/Berlin
BEGIN:VEVENT
SUMMARY:MRO Monday 2025
DTSTART;VALUE=DATE:20250512
DTEND;VALUE=DATE:20250514
DTSTAMP:20260422T171345Z
UID:289ffa01ea6c4a1fbeda85a9ab710229@www.dlr.de
CREATED:20250127T140054Z
DESCRIPTION:https://www.dlr.de/en/mo/latest/events/mro-monday-2025\n\nWith
  the MRO Monday 2025 we're hosting a scientific networking event dedicated
  to exploring the future of Maintenance\, Repair and Overhaul (MRO) soluti
 ons in the aerospace industry. MRO Monday 2025 promises to be a unique gat
 hering of industry leaders\, innovators\, researchers and experts who will
  share insights on the latest trends\, challenges and technological advanc
 ements shaping the future of MRO. The event will be hosted at ZAL TechCent
 er Hamburg\, and will include a series of sessions\, keynote speeches\, an
 d networking opportunities designed to foster collaboration and innovation
 . The event will be held in English.
LAST-MODIFIED:20250505T083120Z
LOCATION:ZAL TechCenter Hamburg
URL:https://www.dlr.de/en/mo/latest/events/mro-monday-2025
END:VEVENT
END:VCALENDAR
