BEGIN:VCALENDAR
VERSION:2.0
PRODID:-//Plone.org//NONSGML plone.app.event//EN
X-WR-TIMEZONE:Europe/Berlin
BEGIN:VEVENT
SUMMARY:automatica 2025
DTSTART;VALUE=DATE:20250624
DTEND;VALUE=DATE:20250628
DTSTAMP:20260420T154819Z
UID:8e989eb9ad1e4a99a67d16c240cd35a6@www.dlr.de
CONTACT:https://automatica-munich.com/en/
CREATED:20250324T123735Z
DESCRIPTION:https://www.dlr.de/en/pt-lf/news/events/2025/automatica-2025\n
 \nautomatica in Munich is the leading trade fair for intelligent automatio
 n and robotics and brings together industry\, science and politics. It pro
 vides an overview of the latest technological advances and innovations in 
 this field.
LAST-MODIFIED:20250324T123740Z
LOCATION:Munich
URL:https://www.dlr.de/en/pt-lf/news/events/2025/automatica-2025
END:VEVENT
END:VCALENDAR
