BEGIN:VCALENDAR
VERSION:2.0
PRODID:-//Plone.org//NONSGML plone.app.event//EN
X-WR-TIMEZONE:Europe/Berlin
BEGIN:VEVENT
SUMMARY:SME Innovation Day 2025: Shaping the future now!
DTSTART;TZID=Europe/Berlin:20250605T100000
DTEND;TZID=Europe/Berlin:20250605T160000
DTSTAMP:20260420T163613Z
UID:1f369b23ff7e488b8b2381b476ae5acb@www.dlr.de
CONTACT:https://innovationstag-mittelstand-bmwk.de/
CREATED:20250430T102451Z
DESCRIPTION:https://www.dlr.de/en/pt-lf/news/events/2025/sme-innovation-da
 y-2025-shaping-the-future-now\n\nThe BMWE's SME Innovation Day will take p
 lace in Berlin on 5 June 2025. The team from the Aviation SME Advisory Ser
 vice of the Project Management Organisation for Aviation Research will be 
 on site to advise interested companies on funding opportunities in the avi
 ation sector. In addition to a comprehensive range of information and advi
 ce on the promotion of innovative ideas through the BMWE's numerous initia
 tives and programmes\, the Innovation Day will also offer the opportunity 
 to talk to representatives from business\, research and politics in a summ
 ery atmosphere.
LAST-MODIFIED:20250520T052758Z
LOCATION:Berlin
URL:https://www.dlr.de/en/pt-lf/news/events/2025/sme-innovation-day-2025-s
 haping-the-future-now
END:VEVENT
BEGIN:VTIMEZONE
TZID:Europe/Berlin
X-LIC-LOCATION:Europe/Berlin
BEGIN:DAYLIGHT
DTSTART:20250330T030000
TZNAME:CEST
TZOFFSETFROM:+0100
TZOFFSETTO:+0200
END:DAYLIGHT
END:VTIMEZONE
END:VCALENDAR
