BEGIN:VCALENDAR
VERSION:2.0
PRODID:-//Plone.org//NONSGML plone.app.event//EN
X-WR-TIMEZONE:Europe/Berlin
BEGIN:VEVENT
SUMMARY:5th Internation Workshop on Carnot Batteries
DTSTART;VALUE=DATE:20260921
DTEND;VALUE=DATE:20260924
DTSTAMP:20260419T142700Z
UID:2be4aa2260c240b2827adc746219da62@www.dlr.de
CREATED:20251023T103538Z
DESCRIPTION:https://www.dlr.de/en/tt/latest/events/2026/iwcb\n\nEnergy sto
 rage is THE challenge for our society. Integrating intermittent power sour
 ces from renewable energies into the future energy infrastructure requires
  storage capacities in the gigawatt hour range. The 5th International Work
 shop on Carnot Batteries (IWCB) will bring together energy storage experts
  to discuss research and demonstration projects in the field of thermal en
 ergy storage with a focus on Carnot batteries. Further information will be
  available here shortly.
LAST-MODIFIED:20260130T113223Z
LOCATION:Stuttgart
URL:https://www.dlr.de/en/tt/latest/events/2026/iwcb
END:VEVENT
END:VCALENDAR
