BEGIN:VCALENDAR
VERSION:2.0
PRODID:-//Plone.org//NONSGML plone.app.event//EN
X-WR-TIMEZONE:Europe/Berlin
BEGIN:VEVENT
SUMMARY:With VR into the future worlds of mobility (mozu)
DTSTART;TZID=Europe/Berlin:20260211T100000
DTSTAMP:20260422T100552Z
UID:dfc9c5b2585e441c9b5db0d4e6c61aa4@www.dlr.de
CONTACT:https://dlr.expert/mozu-workshop-2026
CREATED:20251016T132501Z
DESCRIPTION:https://www.dlr.de/en/vf/latest/events/with-vr-into-the-mobili
 ty-worlds-of-the-future\n\nWe cordially invite you to our workshop 11 Febr
 uary 2026! Discover with us the mobility worlds of the future and experien
 ce at first hand the possibilities that immersive technologies such as VR 
 can contribute to the planning and assessment of mobility concepts. We wil
 l show you our VR lab\, which is currently under construction\, what we me
 an by immersive VR\, what possible applications it offers and how you can 
 use this lab for your questions and projects in the future. The event is h
 eld in German.
LAST-MODIFIED:20251128T132000Z
LOCATION:DLR Standort Berlin\, Rutherfordstr. 2\, 12489 Berlin
URL:https://www.dlr.de/en/vf/latest/events/with-vr-into-the-mobility-world
 s-of-the-future
END:VEVENT
BEGIN:VTIMEZONE
TZID:Europe/Berlin
X-LIC-LOCATION:Europe/Berlin
BEGIN:STANDARD
DTSTART:20251026T020000
TZNAME:CET
TZOFFSETFROM:+0200
TZOFFSETTO:+0100
END:STANDARD
END:VTIMEZONE
END:VCALENDAR
